BEGIN:VCALENDAR
VERSION:2.0
PRODID:-//Red Regional por la Movilidad Humana LGBTIQ+ LAC - ECPv6.8.1//NONSGML v1.0//EN
CALSCALE:GREGORIAN
METHOD:PUBLISH
X-ORIGINAL-URL:https://movilidadlgbtiq.org
X-WR-CALDESC:Eventos para Red Regional por la Movilidad Humana LGBTIQ+ LAC
REFRESH-INTERVAL;VALUE=DURATION:PT1H
X-Robots-Tag:noindex
X-PUBLISHED-TTL:PT1H
BEGIN:VTIMEZONE
TZID:UTC
BEGIN:STANDARD
TZOFFSETFROM:+0000
TZOFFSETTO:+0000
TZNAME:UTC
DTSTART:20230101T000000
END:STANDARD
END:VTIMEZONE
BEGIN:VEVENT
DTSTART;TZID=UTC:20230404T000000
DTEND;TZID=UTC:20230405T000000
DTSTAMP:20260421T035337
CREATED:20210304T030315Z
LAST-MODIFIED:20210304T030315Z
UID:440-1680566400-1680652800@movilidadlgbtiq.org
SUMMARY:Fundraising at schools
DESCRIPTION:Sed ut perspiciatis unde omnis iste natus error sit voluptatem accusantium doloremque laudantium\, totam rem aperiam\, eaque ipsa quae ab illo. \nSed ut perspiciatis unde omnis iste natus error sit voluptatem accusantium doloremque laudantium\, totam rem aperiam\, eaque ipsa quae ab illo inventore veritatis et quasi architecto beatae vitae dicta sunt explicabo.
URL:https://movilidadlgbtiq.org/event/fundraising-at-schools/
LOCATION:New York\, 8 King Street\,\, NY\, United States
CATEGORIES:Seminars
ATTACH;FMTTYPE=image/jpeg:https://movilidadlgbtiq.org/wp-content/uploads/2021/03/event-4.jpg
ORGANIZER;CN="Gary Jones":MAILTO:halpes@example.com
END:VEVENT
END:VCALENDAR